BEGIN:VCALENDAR
VERSION:2.0
PRODID:-//Eva Notario Pardo - ECPv6.15.20//NONSGML v1.0//EN
CALSCALE:GREGORIAN
METHOD:PUBLISH
X-WR-CALNAME:Eva Notario Pardo
X-ORIGINAL-URL:https://evanotariopardo.com
X-WR-CALDESC:Eventos para Eva Notario Pardo
REFRESH-INTERVAL;VALUE=DURATION:PT1H
X-Robots-Tag:noindex
X-PUBLISHED-TTL:PT1H
BEGIN:VTIMEZONE
TZID:UTC
BEGIN:STANDARD
TZOFFSETFROM:+0000
TZOFFSETTO:+0000
TZNAME:UTC
DTSTART:20200101T000000
END:STANDARD
END:VTIMEZONE
BEGIN:VEVENT
DTSTART;VALUE=DATE:20211223
DTEND;VALUE=DATE:20211224
DTSTAMP:20260422T085825
CREATED:20211215T175034Z
LAST-MODIFIED:20211215T175034Z
UID:923-1640217600-1640303999@evanotariopardo.com
SUMMARY:SESIÓN INDIVIDUAL PRESENCIAL
DESCRIPTION:Una sanación del alma es un método natural y holístico que actúa sobre todos los niveles que componen el ser humano\, es decir\, físico\, energético\, emocional\, mental y espiritual. Permite recuperar el orden energético para que la energía de vida pueda circular libremente y de manera coherente. \nTienes más información sobre esta terapia energética aquí. \nLugar de la sesión: Centro Ankh de Ontinyent (Valencia). \nPara más información o para reservar una cita\, rellena el formulario de contacto o llama o envía un whatsapp al 681 34 54 50.
URL:https://evanotariopardo.com/event/sesion-individual-presencial-12/
CATEGORIES:Sesión individual
ATTACH;FMTTYPE=image/jpeg:https://evanotariopardo.com/wp-content/uploads/2021/12/sanacion-energetica3.jpg
END:VEVENT
END:VCALENDAR