BEGIN:VCALENDAR
VERSION:2.0
PRODID:-//Eva Notario Pardo - ECPv6.15.20//NONSGML v1.0//EN
CALSCALE:GREGORIAN
METHOD:PUBLISH
X-WR-CALNAME:Eva Notario Pardo
X-ORIGINAL-URL:https://evanotariopardo.com
X-WR-CALDESC:Eventos para Eva Notario Pardo
REFRESH-INTERVAL;VALUE=DURATION:PT1H
X-Robots-Tag:noindex
X-PUBLISHED-TTL:PT1H
BEGIN:VTIMEZONE
TZID:UTC
BEGIN:STANDARD
TZOFFSETFROM:+0000
TZOFFSETTO:+0000
TZNAME:UTC
DTSTART:20210101T000000
END:STANDARD
END:VTIMEZONE
BEGIN:VEVENT
DTSTART;TZID=UTC:20220211T180000
DTEND;TZID=UTC:20220211T193000
DTSTAMP:20260420T085459
CREATED:20220208T105849Z
LAST-MODIFIED:20220208T110115Z
UID:1038-1644602400-1644607800@evanotariopardo.com
SUMMARY:TALLER DE QI GONG
DESCRIPTION:El Qi Gong es una práctica integrada en la Medicina Tradicional China basada en la coordinación del movimiento lento con la respiración y la concentración. El objetivo es favorecer la buena circulación del Qi (energía vital)\, tanto en el organismo como en su relación con el entorno. Una práctica asidua aporta numerosos beneficios para la salud a todos los planos del ser. \nEste taller presenta ejercicios sencillos para aprender a reforzar el sistema inmunitario y aumentar la vitalidad. \nPuedes elegir participar en el taller del viernes 11 por la tarde o en el del sábado 12 por la mañana. \nLugar del taller: Centro Ankh de Ontinyent (Valencia). \nPara más información\, rellena el formulario de contacto \nPara reservar\, llama o envía un whatsapp al 669 93 82 84.
URL:https://evanotariopardo.com/event/taller-de-qi-gong/
CATEGORIES:Taller grupal
ATTACH;FMTTYPE=image/jpeg:https://evanotariopardo.com/wp-content/uploads/2022/02/Studio-de-Yoga-Tantra.jpg
END:VEVENT
END:VCALENDAR