BEGIN:VCALENDAR
VERSION:2.0
PRODID:-//Eva Notario Pardo - ECPv6.15.20//NONSGML v1.0//EN
CALSCALE:GREGORIAN
METHOD:PUBLISH
X-ORIGINAL-URL:https://evanotariopardo.com
X-WR-CALDESC:Eventos para Eva Notario Pardo
REFRESH-INTERVAL;VALUE=DURATION:PT1H
X-Robots-Tag:noindex
X-PUBLISHED-TTL:PT1H
BEGIN:VTIMEZONE
TZID:UTC
BEGIN:STANDARD
TZOFFSETFROM:+0000
TZOFFSETTO:+0000
TZNAME:UTC
DTSTART:20210101T000000
END:STANDARD
END:VTIMEZONE
BEGIN:VEVENT
DTSTART;TZID=UTC:20220216T190000
DTEND;TZID=UTC:20220216T200000
DTSTAMP:20260420T085614
CREATED:20220214T095121Z
LAST-MODIFIED:20220214T095121Z
UID:1052-1645038000-1645041600@evanotariopardo.com
SUMMARY:DIRECTO INSTAGRAM con MAGDALENA SZASZKIEWICZ
DESCRIPTION:Nuevo directo de la serie CO-CREANDO CONSCIENCIA con Magdalena Szaszkiewicz\, creadora de AROMANDALA\, un modelo terapéutico y de autoconocimiento que fusiona la TerapiaFloral Evolutiva y la Aromaterapia. \nTema: «Psiche\, Aromas y Emociones». \nNota: ¿Te vas a perder el evento porque no tienes cuenta en Instagram? Suscríbete a mi canal de YouTube y tendrás acceso a la grabación.
URL:https://evanotariopardo.com/event/directo-instagram-con-magdalena-szaszkiewicz/
CATEGORIES:Directos Instagram
ATTACH;FMTTYPE=image/jpeg:https://evanotariopardo.com/wp-content/uploads/2022/02/Instagram-Post-Brush-218-e1644832259170.jpg
END:VEVENT
END:VCALENDAR