BEGIN:VCALENDAR
VERSION:2.0
PRODID:-//Eva Notario Pardo - ECPv6.15.20//NONSGML v1.0//EN
CALSCALE:GREGORIAN
METHOD:PUBLISH
X-ORIGINAL-URL:https://evanotariopardo.com
X-WR-CALDESC:Eventos para Eva Notario Pardo
REFRESH-INTERVAL;VALUE=DURATION:PT1H
X-Robots-Tag:noindex
X-PUBLISHED-TTL:PT1H
BEGIN:VTIMEZONE
TZID:UTC
BEGIN:STANDARD
TZOFFSETFROM:+0000
TZOFFSETTO:+0000
TZNAME:UTC
DTSTART:20210101T000000
END:STANDARD
END:VTIMEZONE
BEGIN:VEVENT
DTSTART;TZID=UTC:20220223T160000
DTEND;TZID=UTC:20220223T170000
DTSTAMP:20260420T085611
CREATED:20220221T153317Z
LAST-MODIFIED:20220221T153530Z
UID:1063-1645632000-1645635600@evanotariopardo.com
SUMMARY:DIRECTO INSTAGRAM sobre NATUROPATÍA HOLÍSTICA
DESCRIPTION:Nuevo directo de la serie APUNTES DE NATUROPATÍA HOLÍSTICA en el que hablaré de «La cura Detoxicante». \nExplicaré en qué consiste\, importancia y beneficios\, cómo llevarla a cabo y consejos prácticos basados en la alimentación\, la fitoterapia y otras técnicas naturopáticas. \nNota: ¿Te vas a perder el evento porque no tienes cuenta en Instagram? Suscríbete a mi canal de YouTube y tendrás acceso a la grabación.
URL:https://evanotariopardo.com/event/directo-instagram-sobre-naturopatia-holistica-3/
CATEGORIES:Directos Instagram
ATTACH;FMTTYPE=image/jpeg:https://evanotariopardo.com/wp-content/uploads/2022/02/Apuntes-de-Naturopatia-Holistica4-e1645457587430.jpg
END:VEVENT
END:VCALENDAR