BEGIN:VCALENDAR
VERSION:2.0
PRODID:-//Eva Notario Pardo - ECPv6.15.20//NONSGML v1.0//EN
CALSCALE:GREGORIAN
METHOD:PUBLISH
X-WR-CALNAME:Eva Notario Pardo
X-ORIGINAL-URL:https://evanotariopardo.com
X-WR-CALDESC:Eventos para Eva Notario Pardo
REFRESH-INTERVAL;VALUE=DURATION:PT1H
X-Robots-Tag:noindex
X-PUBLISHED-TTL:PT1H
BEGIN:VTIMEZONE
TZID:UTC
BEGIN:STANDARD
TZOFFSETFROM:+0000
TZOFFSETTO:+0000
TZNAME:UTC
DTSTART:20200101T000000
END:STANDARD
END:VTIMEZONE
BEGIN:VEVENT
DTSTART;TZID=UTC:20211109T160000
DTEND;TZID=UTC:20211109T170000
DTSTAMP:20260422T085918
CREATED:20211107T100826Z
LAST-MODIFIED:20211107T110205Z
UID:799-1636473600-1636477200@evanotariopardo.com
SUMMARY:DIRECTO INSTAGRAM con CELIA MARTÍN
DESCRIPTION:Nuevo directo de la serie CO-CREANDO CONSCIENCIA con Celia Martín\, coach y formadora experta en comunicación y relaciones. \nTema: «Evolucionando desde la comunicación afectiva». \nNota: ¿Te vas a perder el evento porque no tienes cuenta en Instagram? Suscríbete a mi canal de YouTube y tendrás acceso a la grabación.
URL:https://evanotariopardo.com/event/directo-instagram-con-celia-martin/
CATEGORIES:Directos Instagram
ATTACH;FMTTYPE=image/jpeg:https://evanotariopardo.com/wp-content/uploads/2021/11/Instagram-Post-Brush-216-e1636281581618.jpg
END:VEVENT
BEGIN:VEVENT
DTSTART;VALUE=DATE:20211115
DTEND;VALUE=DATE:20211116
DTSTAMP:20260422T085918
CREATED:20211111T145144Z
LAST-MODIFIED:20211111T145756Z
UID:841-1636934400-1637020799@evanotariopardo.com
SUMMARY:SESIÓN INDIVIDUAL PRESENCIAL
DESCRIPTION:Una sanación del alma es un método natural y holístico que actúa sobre todos los niveles que componen el ser humano\, es decir\, físico\, energético\, emocional\, mental y espiritual. Permite recuperar el orden energético para que la energía de vida pueda circular libremente y de manera coherente. \nTienes más información sobre esta terapia energética aquí. \nLugar de la sesión: Centro Ankh de Ontinyent (Valencia). \nPara más información o para reservar una cita\, rellena el formulario de contacto o llama o envía un whatsapp al 681 34 54 50.
URL:https://evanotariopardo.com/event/sesion-individual/
CATEGORIES:Sesión individual
ATTACH;FMTTYPE=image/jpeg:https://evanotariopardo.com/wp-content/uploads/2021/11/sanacion-del-alma-e1636641893861.jpg
END:VEVENT
BEGIN:VEVENT
DTSTART;VALUE=DATE:20211116
DTEND;VALUE=DATE:20211117
DTSTAMP:20260422T085918
CREATED:20211111T145429Z
LAST-MODIFIED:20211111T145643Z
UID:844-1637020800-1637107199@evanotariopardo.com
SUMMARY:SESIÓN INDIVIDUAL PRESENCIAL
DESCRIPTION:Una sanación del alma es un método natural y holístico que actúa sobre todos los niveles que componen el ser humano\, es decir\, físico\, energético\, emocional\, mental y espiritual. Permite recuperar el orden energético para que la energía de vida pueda circular libremente y de manera coherente. \nTienes más información sobre esta terapia energética aquí. \nLugar de la sesión: Centro Ankh de Ontinyent (Valencia). \nPara más información o para reservar una cita\, rellena el formulario de contacto o llama o envía un whatsapp al 681 34 54 50.
URL:https://evanotariopardo.com/event/sesion-individual-2/
CATEGORIES:Sesión individual
ATTACH;FMTTYPE=image/jpeg:https://evanotariopardo.com/wp-content/uploads/2021/11/sanacion-del-alma-e1636641893861.jpg
END:VEVENT
BEGIN:VEVENT
DTSTART;TZID=UTC:20211116T150000
DTEND;TZID=UTC:20211116T160000
DTSTAMP:20260422T085918
CREATED:20211115T174235Z
LAST-MODIFIED:20211115T174235Z
UID:863-1637074800-1637078400@evanotariopardo.com
SUMMARY:DIRECTO INSTAGRAM con LUCÍA CAMBRA
DESCRIPTION:Nuevo directo de la serie UNA CITA CON EL ALMA con Lucía Cambra\, terapeuta y profesora de yoga\, en el que comparte su «nueva teoría del alma». \nTema: «La misión\, el destino y el propósito de vida». \nNota: ¿Te vas a perder el evento porque no tienes cuenta en Instagram? Suscríbete a mi canal de YouTube y tendrás acceso a la grabación.
URL:https://evanotariopardo.com/event/directo-instagram-con-lucia-cambra/
CATEGORIES:Directos Instagram
ATTACH;FMTTYPE=image/jpeg:https://evanotariopardo.com/wp-content/uploads/2021/11/una-cita-con-el-alma-e1636998122462.jpg
END:VEVENT
BEGIN:VEVENT
DTSTART;VALUE=DATE:20211122
DTEND;VALUE=DATE:20211123
DTSTAMP:20260422T085918
CREATED:20211111T145937Z
LAST-MODIFIED:20211111T145937Z
UID:849-1637539200-1637625599@evanotariopardo.com
SUMMARY:SESIÓN INDIVIDUAL PRESENCIAL
DESCRIPTION:Una sanación del alma es un método natural y holístico que actúa sobre todos los niveles que componen el ser humano\, es decir\, físico\, energético\, emocional\, mental y espiritual. Permite recuperar el orden energético para que la energía de vida pueda circular libremente y de manera coherente. \nTienes más información sobre esta terapia energética aquí. \nLugar de la sesión: Centro Ankh de Ontinyent (Valencia). \nPara más información o para reservar una cita\, rellena el formulario de contacto o llama o envía un whatsapp al 681 34 54 50.
URL:https://evanotariopardo.com/event/sesion-individual-presencial/
CATEGORIES:Sesión individual
ATTACH;FMTTYPE=image/jpeg:https://evanotariopardo.com/wp-content/uploads/2021/11/sanacion-del-alma-e1636641893861.jpg
END:VEVENT
BEGIN:VEVENT
DTSTART;VALUE=DATE:20211123
DTEND;VALUE=DATE:20211124
DTSTAMP:20260422T085918
CREATED:20211111T150139Z
LAST-MODIFIED:20211111T150238Z
UID:852-1637625600-1637711999@evanotariopardo.com
SUMMARY:SESIÓN INDIVIDUAL PRESENCIAL
DESCRIPTION:Una sanación del alma es un método natural y holístico que actúa sobre todos los niveles que componen el ser humano\, es decir\, físico\, energético\, emocional\, mental y espiritual. Permite recuperar el orden energético para que la energía de vida pueda circular libremente y de manera coherente. \nTienes más información sobre esta terapia energética aquí. \nLugar de la sesión: Centro Ankh de Ontinyent (Valencia). \nPara más información o para reservar una cita\, rellena el formulario de contacto o llama o envía un whatsapp al 681 34 54 50.
URL:https://evanotariopardo.com/event/sesion-individual-presencial-2/
CATEGORIES:Sesión individual
ATTACH;FMTTYPE=image/jpeg:https://evanotariopardo.com/wp-content/uploads/2021/11/sanacion-del-alma-e1636641893861.jpg
END:VEVENT
BEGIN:VEVENT
DTSTART;TZID=UTC:20211124T160000
DTEND;TZID=UTC:20211124T170000
DTSTAMP:20260422T085918
CREATED:20211109T084753Z
LAST-MODIFIED:20211109T085533Z
UID:835-1637769600-1637773200@evanotariopardo.com
SUMMARY:DIRECTO INSTAGRAM sobre NATUROPATÍA HOLÍSTICA
DESCRIPTION:Nuevo directo de la serie APUNTES DE NATUROPATÍA HOLÍSTICA en el que hablaré de «Vitalidad: cómo medirla y aumentarla». \nConoce tu nivel de vitalidad gracias a las señales que te envía tu cuerpo\, cuáles son los elementos que te hacen perder vitalidad y cuáles te ayudan a revitalizarte. \nNota: ¿Te vas a perder el evento porque no tienes cuenta en Instagram? Suscríbete a mi canal de YouTube y tendrás acceso a la grabación.
URL:https://evanotariopardo.com/event/directo-instagram-sobre-naturopatia-holistica/
CATEGORIES:Directos Instagram
ATTACH;FMTTYPE=image/jpeg:https://evanotariopardo.com/wp-content/uploads/2021/11/Apuntes-de-Naturopatia-Holistica1-e1636448013216.jpg
END:VEVENT
BEGIN:VEVENT
DTSTART;VALUE=DATE:20211125
DTEND;VALUE=DATE:20211126
DTSTAMP:20260422T085918
CREATED:20211111T150445Z
LAST-MODIFIED:20211111T150445Z
UID:854-1637798400-1637884799@evanotariopardo.com
SUMMARY:SESIÓN INDIVIDUAL PRESENCIAL
DESCRIPTION:Una sanación del alma es un método natural y holístico que actúa sobre todos los niveles que componen el ser humano\, es decir\, físico\, energético\, emocional\, mental y espiritual. Permite recuperar el orden energético para que la energía de vida pueda circular libremente y de manera coherente. \nTienes más información sobre esta terapia energética aquí. \nLugar de la sesión: Centro Ankh de Ontinyent (Valencia). \nPara más información o para reservar una cita\, rellena el formulario de contacto o llama o envía un whatsapp al 681 34 54 50.
URL:https://evanotariopardo.com/event/sesion-individual-presencial-3/
CATEGORIES:Sesión individual
ATTACH;FMTTYPE=image/jpeg:https://evanotariopardo.com/wp-content/uploads/2021/11/sanacion-del-alma-e1636641893861.jpg
END:VEVENT
BEGIN:VEVENT
DTSTART;VALUE=DATE:20211126
DTEND;VALUE=DATE:20211127
DTSTAMP:20260422T085918
CREATED:20211111T150617Z
LAST-MODIFIED:20211111T150617Z
UID:856-1637884800-1637971199@evanotariopardo.com
SUMMARY:SESIÓN INDIVIDUAL PRESENCIAL
DESCRIPTION:Una sanación del alma es un método natural y holístico que actúa sobre todos los niveles que componen el ser humano\, es decir\, físico\, energético\, emocional\, mental y espiritual. Permite recuperar el orden energético para que la energía de vida pueda circular libremente y de manera coherente. \nTienes más información sobre esta terapia energética aquí. \nLugar de la sesión: Centro Ankh de Ontinyent (Valencia). \nPara más información o para reservar una cita\, rellena el formulario de contacto o llama o envía un whatsapp al 681 34 54 50.
URL:https://evanotariopardo.com/event/sesion-individual-presencial-4/
CATEGORIES:Sesión individual
ATTACH;FMTTYPE=image/jpeg:https://evanotariopardo.com/wp-content/uploads/2021/11/sanacion-del-alma-e1636641893861.jpg
END:VEVENT
BEGIN:VEVENT
DTSTART;VALUE=DATE:20211129
DTEND;VALUE=DATE:20211130
DTSTAMP:20260422T085918
CREATED:20211111T150747Z
LAST-MODIFIED:20211111T151639Z
UID:858-1638144000-1638230399@evanotariopardo.com
SUMMARY:SESIÓN INDIVIDUAL PRESENCIAL
DESCRIPTION:Una sanación del alma es un método natural y holístico que actúa sobre todos los niveles que componen el ser humano\, es decir\, físico\, energético\, emocional\, mental y espiritual. Permite recuperar el orden energético para que la energía de vida pueda circular libremente y de manera coherente. \nTienes más información sobre esta terapia energética aquí. \nLugar de la sesión: Centro Ankh de Ontinyent (Valencia). \nPara más información o para reservar una cita\, rellena el formulario de contacto o llama o envía un whatsapp al 681 34 54 50.
URL:https://evanotariopardo.com/event/sesion-individual-presencial-5/
CATEGORIES:Sesión individual
ATTACH;FMTTYPE=image/jpeg:https://evanotariopardo.com/wp-content/uploads/2021/11/sanacion-del-alma-e1636641893861.jpg
END:VEVENT
END:VCALENDAR