BEGIN:VCALENDAR
VERSION:2.0
PRODID:-//Eva Notario Pardo - ECPv6.15.20//NONSGML v1.0//EN
CALSCALE:GREGORIAN
METHOD:PUBLISH
X-WR-CALNAME:Eva Notario Pardo
X-ORIGINAL-URL:https://evanotariopardo.com
X-WR-CALDESC:Eventos para Eva Notario Pardo
REFRESH-INTERVAL;VALUE=DURATION:PT1H
X-Robots-Tag:noindex
X-PUBLISHED-TTL:PT1H
BEGIN:VTIMEZONE
TZID:UTC
BEGIN:STANDARD
TZOFFSETFROM:+0000
TZOFFSETTO:+0000
TZNAME:UTC
DTSTART:20210101T000000
END:STANDARD
END:VTIMEZONE
BEGIN:VEVENT
DTSTART;TZID=UTC:20220112T190000
DTEND;TZID=UTC:20220112T200000
DTSTAMP:20260420T091917
CREATED:20220107T173251Z
LAST-MODIFIED:20220115T155229Z
UID:964-1642014000-1642017600@evanotariopardo.com
SUMMARY:DIRECTO INSTAGRAM con LAURA CASARES
DESCRIPTION:Nuevo directo de la serie CO-CREANDO CONSCIENCIA con Laura Casares\, formada en Constelaciones Familiares. \nTema: «La visión sistémica de las Constelaciones Familiares». \nNota: ¿Te vas a perder el evento porque no tienes cuenta en Instagram? Suscríbete a mi canal de YouTube y tendrás acceso a la grabación.
URL:https://evanotariopardo.com/event/directo-instagram-con-laura-kasares/
CATEGORIES:Directos Instagram
ATTACH;FMTTYPE=image/jpeg:https://evanotariopardo.com/wp-content/uploads/2022/01/Instagram-Post-Brush-217-e1642261934813.jpg
END:VEVENT
BEGIN:VEVENT
DTSTART;TZID=UTC:20220118T150000
DTEND;TZID=UTC:20220118T160000
DTSTAMP:20260420T091917
CREATED:20220115T155023Z
LAST-MODIFIED:20220115T155023Z
UID:979-1642518000-1642521600@evanotariopardo.com
SUMMARY:DIRECTO INSTAGRAM con LUCÍA CAMBRA
DESCRIPTION:Nuevo directo de la serie UNA CITA CON EL ALMA con Lucía Cambra\, terapeuta y profesora de yoga\, en el que comparte su «nueva teoría del alma». \nTema: «Qué es el libre albedrío y cómo nos afecta». \nNota: ¿Te vas a perder el evento porque no tienes cuenta en Instagram? Suscríbete a mi canal de YouTube y tendrás acceso a la grabación.
URL:https://evanotariopardo.com/event/directo-instagram-con-lucia-cambra-3/
CATEGORIES:Directos Instagram
ATTACH;FMTTYPE=image/jpeg:https://evanotariopardo.com/wp-content/uploads/2021/11/una-cita-con-el-alma-e1636998122462.jpg
END:VEVENT
BEGIN:VEVENT
DTSTART;TZID=UTC:20220126T160000
DTEND;TZID=UTC:20220126T170000
DTSTAMP:20260420T091917
CREATED:20220124T161517Z
LAST-MODIFIED:20220124T161517Z
UID:1000-1643212800-1643216400@evanotariopardo.com
SUMMARY:DIRECTO INSTAGRAM sobre NATUROPATÍA HOLÍSTICA
DESCRIPTION:Nuevo directo de la serie APUNTES DE NATUROPATÍA HOLÍSTICA en el que hablaré de «La cura de Revitalización». \nExplicaré en qué consiste\, importancia y beneficios\, cómo llevarla a cabo y consejos prácticos basados en la alimentación\, la fitoterapia y otras técnicas naturopáticas. \nNota: ¿Te vas a perder el evento porque no tienes cuenta en Instagram? Suscríbete a mi canal de YouTube y tendrás acceso a la grabación.
URL:https://evanotariopardo.com/event/directo-instagram-sobre-naturopatia-holistica-2/
CATEGORIES:Directos Instagram
ATTACH;FMTTYPE=image/jpeg:https://evanotariopardo.com/wp-content/uploads/2022/01/Revitalizacion-e1643040888919.jpg
END:VEVENT
END:VCALENDAR